BEGIN:VCALENDAR
VERSION:2.0
PRODID:-//ChamberMaster//Event Calendar 2.0//EN
METHOD:PUBLISH
X-PUBLISHED-TTL:P3D
REFRESH-INTERVAL:P3D
CALSCALE:GREGORIAN
BEGIN:VEVENT
DTSTART:20190226T124500Z
DTEND:20190226T143000Z
X-MICROSOFT-CDO-ALLDAYEVENT:FALSE
SUMMARY:Speed Networking Sept 2019
DESCRIPTION:Speed Networking is back! Join us for this fast-paced and fun morning networking event. No awkward moments   this event will guarantee that you meet 50% of the room in a quick exercise\, followed by breakfast and additional networking.\n\n\n\nSpeed Networking Guidelines\n\n	Only one (1) representative per business\n	Please be respectful to other attendees and show up on time as this event starts promptly at 8:00 am\n	Remember when you sign up\, it is imperative that you stay for the entire event as the flow of the exercise depends on it\n	Event maxes out at 30 people
X-ALT-DESC;FMTTYPE=text/html:<span style="color:#000000\;"><span style="font-family:tahoma\,sans-serif\;"><span style="font-size:9.5pt\;">Speed Networking is back! Join us for this fast-paced and fun morning networking event. No awkward moments &ndash\; this event will guarantee that you meet 50% of the room in a quick exercise\, followed by breakfast and additional networking.<br />\n<br />\n<em><strong>Speed Networking Guidelines</strong></em></span></span></span>\n<ul>\n	<li><span style="color:#000000\;"><span style="font-family:tahoma\,sans-serif\;"><span style="font-size:9.5pt\;"><strong>Only one (1) representative per business</strong></span></span></span></li>\n	<li><span style="color:#000000\;"><span style="font-family:tahoma\,sans-serif\;"><span style="font-size:9.5pt\;">Please be respectful to other attendees and show up on time as this event starts promptly at 8:00 am</span></span></span></li>\n	<li><span style="color:#000000\;"><span style="font-family:tahoma\,sans-serif\;"><span style="font-size:9.5pt\;">Remember when you sign up\, it is imperative that you stay for the entire event as the flow of the exercise depends on it</span></span></span></li>\n	<li><span style="color:#000000\;"><span style="font-family:tahoma\,sans-serif\;"><span style="font-size:9.5pt\;">Event maxes out at 30 people</span></span></span></li>\n</ul>\n
LOCATION:Rachel's Spice Company & Cafe 240 Warren Street\, Glens Falls\, NY 12801
UID:e.1842.3589
SEQUENCE:3
DTSTAMP:20260424T203007Z
URL:https://www.adirondackchamber.org/events/details/speed-networking-sept-2019-3589
END:VEVENT

END:VCALENDAR
