BEGIN:VCALENDAR
VERSION:2.0
PRODID:-//ChamberMaster//Event Calendar 2.0//EN
METHOD:PUBLISH
X-PUBLISHED-TTL:P3D
REFRESH-INTERVAL:P3D
CALSCALE:GREGORIAN
BEGIN:VEVENT
DTSTART:20190529T200000Z
DTEND:20190529T220000Z
X-MICROSOFT-CDO-ALLDAYEVENT:FALSE
SUMMARY:Ribbon Cutting for Surgical Specialists of Glens Falls Hospital
DESCRIPTION:The Glens Falls Hospital is celebrating the grand opening of Surgical Specialists - a combination of six Glens Falls Hospital surgical practices into one integrated team located at 14 Hudson in Glens Falls.
X-ALT-DESC;FMTTYPE=text/html:<span style="color:#000000\;">The Glens Falls Hospital is celebrating the grand opening of <strong>Surgical Specialists</strong> - a combination of six Glens Falls Hospital surgical practices into one integrated team located at 14 Hudson in Glens Falls.</span>
LOCATION:14 Hudson Avenue Glens Falls\, NY 12801
UID:e.1842.3693
SEQUENCE:3
DTSTAMP:20260422T004057Z
URL:https://www.adirondackchamber.org/events/details/ribbon-cutting-for-surgical-specialists-of-glens-falls-hospital-3693
END:VEVENT

END:VCALENDAR
