BEGIN:VCALENDAR
VERSION:2.0
PRODID:-//ChamberMaster//Event Calendar 2.0//EN
METHOD:PUBLISH
X-PUBLISHED-TTL:P3D
REFRESH-INTERVAL:P3D
CALSCALE:GREGORIAN
BEGIN:VEVENT
DTSTART:20190501T160000Z
DTEND:20190501T170000Z
X-MICROSOFT-CDO-ALLDAYEVENT:FALSE
SUMMARY:Ribbon Cutting for SUNY Adirondack Clock Tower Dedication
DESCRIPTION:Join SUNY Adirondack and the ARCC to celebrate the addition of a new landmark on campus with the completion and dedication of a new clock tower on Wednesday\, May 1.\n\n\n\nThe clock tower symbolizes the partnership between the College and the ARCC for their shared work to support business growth and success in our community.\n\n\n\nThe clock tower serves as a reminder that "learning is timeless".
X-ALT-DESC;FMTTYPE=text/html:<span style="color:#000000\;">Join SUNY Adirondack and the ARCC to celebrate the addition of a new landmark on campus with the completion and dedication of a new clock tower on Wednesday\, May 1.<br />\n<br />\nThe clock tower symbolizes the partnership between the College and the ARCC for their shared work to support business growth and success in our community.<br />\n<br />\nThe clock tower serves as a reminder that &quot\;learning is timeless&quot\;.</span>
LOCATION:SUNY Adirondack 640 Bay Road Queensbury\, NY 12804 Clock is located on the northern side of campus\, between Adirondack Hall and Bryan Hall. Click here for map.
UID:e.1842.3675
SEQUENCE:3
DTSTAMP:20260422T003711Z
URL:https://www.adirondackchamber.org/events/details/ribbon-cutting-for-suny-adirondack-clock-tower-dedication-3675
END:VEVENT

END:VCALENDAR
