BEGIN:VCALENDAR
VERSION:2.0
PRODID:-//ChamberMaster//Event Calendar 2.0//EN
METHOD:PUBLISH
X-PUBLISHED-TTL:P3D
REFRESH-INTERVAL:P3D
CALSCALE:GREGORIAN
BEGIN:VEVENT
DTSTART:20260527T190000Z
DTEND:20260527T200000Z
X-MICROSOFT-CDO-ALLDAYEVENT:FALSE
SUMMARY:Ribbon Cutting for Staples-Party City collaboration
DESCRIPTION:Staples has teamed up with Party City to offer balloons\, party supplies and more. They have increased their line of custom products\, printed right in store\, making them a unique place to shop for your party needs. Join us as we celebrate this expansion!
X-ALT-DESC;FMTTYPE=text/html:<a data-auth="NotApplicable" data-linkindex="84" data-olk-copy-source="MessageBody" href="https://spaavobab.cc.rs6.net/tn.jsp?f=0018CYNxw812ZPT1m0voonFB88izWMt0m4kUKSOgiFu4YNFnXvxzna9j6p-82_5cgI9WbluHL5GUumRUfr5toRo5dN67qldhGH18dPqQuPecH7LQPt1ObZNQgcxdWej0tqfw9JnydVaAlmOLcTUijOsgg==&amp\;c=oK2ygFJoxS9AmyE3L3tPMASFT_QM-e84QKsIXyrHPcTBClS96lAY9A==&amp\;ch=O-M7b_R143AsiY12-DuYKl5nFRtnzoTuYBwzgRRZeJ9DqZg43uwAVg==" title="https://spaavobab.cc.rs6.net/tn.jsp?f=0018CYNxw812ZPT1m0voonFB88izWMt0m4kUKSOgiFu4YNFnXvxzna9j6p-82_5cgI9WbluHL5GUumRUfr5toRo5dN67qldhGH18dPqQuPecH7LQPt1ObZNQgcxdWej0tqfw9JnydVaAlmOLcTUijOsgg==&amp\;c=oK2ygFJoxS9AmyE3L3tPMASFT_QM-e84QKsIXyrHPcTBClS96lAY9A==&amp\;ch=O-M7b_R143AsiY12-DuYKl5nFRtnzoTuYBwzgRRZeJ9DqZg43uwAVg==">Staples</a>&nbsp\;has teamed up with Party City to offer balloons\, party supplies and more. They have increased their line of custom products\, printed right in store\, making them a unique place to shop for your party needs. Join us as we celebrate this expansion!
LOCATION:752 Upper Glen Street Queensbury\, NY 12804
UID:e.1842.4934
SEQUENCE:3
DTSTAMP:20260423T002908Z
URL:https://www.adirondackchamber.org/events/details/ribbon-cutting-for-staples-party-city-collaboration-4934
END:VEVENT

END:VCALENDAR
