BEGIN:VCALENDAR
VERSION:2.0
PRODID:-//ChamberMaster//Event Calendar 2.0//EN
METHOD:PUBLISH
X-PUBLISHED-TTL:P3D
REFRESH-INTERVAL:P3D
CALSCALE:GREGORIAN
BEGIN:VEVENT
DTSTART:20190501T190000Z
DTEND:20190501T193000Z
X-MICROSOFT-CDO-ALLDAYEVENT:FALSE
SUMMARY:Ribbon Cutting for Northern Insuring
DESCRIPTION:Northern Insuring is thrilled to have opened their new office in Glens Falls. They also happen to be our downstairs neighbors! Come check out their new space and help welcome them to the Glens Falls community.
X-ALT-DESC;FMTTYPE=text/html:<span style="color:#000000\;">Northern Insuring is thrilled to have opened their new office in Glens Falls. They also happen to be our downstairs neighbors! Come check out their new space and help welcome them to the Glens Falls community.</span>
LOCATION:Northern Insuring 136 Glen Street Glens Falls\, NY 12801
UID:e.1842.3661
SEQUENCE:3
DTSTAMP:20260422T003608Z
URL:https://www.adirondackchamber.org/events/details/ribbon-cutting-for-northern-insuring-3661
END:VEVENT

END:VCALENDAR
