BEGIN:VCALENDAR
VERSION:2.0
PRODID:-//ChamberMaster//Event Calendar 2.0//EN
METHOD:PUBLISH
X-PUBLISHED-TTL:P3D
REFRESH-INTERVAL:P3D
CALSCALE:GREGORIAN
BEGIN:VEVENT
DTSTART:20190524T150000Z
DTEND:20190524T160000Z
X-MICROSOFT-CDO-ALLDAYEVENT:FALSE
SUMMARY:Ribbon Cutting for LEAP Services
DESCRIPTION:The Washington County EOC has rebranded to L.E.A.P Services. L.E.A.P. stands for Learning\, Employment\, Assistance\, Partnership and has a mission of working with individuals and families to increase self-sufficiency through the provision of services and sharing resources through community collaboration.\n\n\n\nJoin us for a ribbon cutting to mark the occasion!
X-ALT-DESC;FMTTYPE=text/html:The Washington County EOC has rebranded to L.E.A.P Services. L.E.A.P. stands for Learning\, Employment\, Assistance\, Partnership and has a mission of working with individuals and families to increase self-sufficiency through the provision of services and sharing resources through community collaboration.<br />\n<br />\n<strong>Join us for a ribbon cutting to mark the occasion!</strong>
LOCATION:L.E.A.P. 399 Broadway Fort Edward\, NY 12828
UID:e.1842.3670
SEQUENCE:3
DTSTAMP:20260422T005820Z
URL:https://www.adirondackchamber.org/events/details/ribbon-cutting-for-leap-services-3670
END:VEVENT

END:VCALENDAR
