BEGIN:VCALENDAR
VERSION:2.0
PRODID:-//ChamberMaster//Event Calendar 2.0//EN
METHOD:PUBLISH
X-PUBLISHED-TTL:P3D
REFRESH-INTERVAL:P3D
CALSCALE:GREGORIAN
BEGIN:VEVENT
DTSTART:20260313T150000Z
DTEND:20260313T160000Z
X-MICROSOFT-CDO-ALLDAYEVENT:FALSE
SUMMARY:Ribbon Cutting for Glens Falls Liquor
DESCRIPTION:Local entrepreneurs Tim & Rachel Ortiz have opened a wine & liquor store in downtown Glens Falls. Join us for a ribbon cutting to welcome them to the downtown business community!
X-ALT-DESC;FMTTYPE=text/html:Local entrepreneurs Tim &amp\; Rachel Ortiz have opened a wine &amp\; liquor store in downtown Glens Falls. Join us for a ribbon cutting to welcome them to the downtown business community!
LOCATION:280 Glen Street Glens Falls\, NY 12801
UID:e.1842.4889
SEQUENCE:3
DTSTAMP:20260421T035137Z
URL:https://www.adirondackchamber.org/events/details/ribbon-cutting-for-glens-falls-liquor-4889
END:VEVENT

END:VCALENDAR
