BEGIN:VCALENDAR
VERSION:2.0
PRODID:-//ChamberMaster//Event Calendar 2.0//EN
METHOD:PUBLISH
X-PUBLISHED-TTL:P3D
REFRESH-INTERVAL:P3D
CALSCALE:GREGORIAN
BEGIN:VEVENT
DTSTART:20200422T200000Z
DTEND:20200422T210000Z
X-MICROSOFT-CDO-ALLDAYEVENT:FALSE
SUMMARY:Ribbon Cutting for 42 Degrees
DESCRIPTION:42  was formed in 2009 with the premise of bringing all American Made glass to the people of Glens Falls. Join us as we celebrate their new location on Glen Street and welcome them to the business community with a ribbon cutting!
X-ALT-DESC;FMTTYPE=text/html:42&deg\; was formed in 2009 with the premise of bringing all American Made glass to the people of Glens Falls. Join us as we celebrate their new location on Glen Street and welcome them to the business community with a ribbon cutting!
LOCATION:42 Degrees 206 Glen Street Glens Falls\, NY 12801
UID:e.1842.3929
SEQUENCE:3
DTSTAMP:20260425T001845Z
URL:https://www.adirondackchamber.org/events/details/ribbon-cutting-for-42-degrees-3929
END:VEVENT

END:VCALENDAR
