BEGIN:VCALENDAR
VERSION:2.0
PRODID:-//ChamberMaster//Event Calendar 2.0//EN
METHOD:PUBLISH
X-PUBLISHED-TTL:P3D
REFRESH-INTERVAL:P3D
CALSCALE:GREGORIAN
BEGIN:VEVENT
DTSTART:20190523T160000Z
DTEND:20190523T170000Z
X-MICROSOFT-CDO-ALLDAYEVENT:FALSE
SUMMARY:Nonprofit Brown Bag Lunch Chat
DESCRIPTION:The Adirondack Nonprofit Business Council (ANBC) is hosting another Brown Bag Lunch Chat!\n\n\n\nThis casual meet-up is open to all nonprofits who would like to connect with other nonprofits during a themed discussion. This month the group will be continuing a discussion on advocacy and also reflecting on the ANBC's Symposium event\, held earlier in the month.\n\n\n\nPlease RSVP to Kelly Obermayer\, Director of Development with the Moreau Community Center at 518.792.6007 ext. 16 or by email at kelly@moreaucommunitycenter.org
X-ALT-DESC;FMTTYPE=text/html:The Adirondack Nonprofit Business Council (ANBC) is hosting another Brown Bag Lunch Chat!<br />\n<br />\nThis casual meet-up is open to all nonprofits who would like to connect with other nonprofits during a themed discussion. This month the group will be continuing a discussion on advocacy and also reflecting on the ANBC&#39\;s Symposium event\, held earlier in the month.<br />\n<br />\n<strong>Please RSVP</strong> to Kelly Obermayer\, Director of Development with the Moreau Community Center at 518.792.6007 ext. 16 or by email at <a href="mailto:kelly@moreaucommunitycenter.org" target="_blank">kelly@moreaucommunitycenter.org</a><br />\n&nbsp\;
LOCATION:Tri-County United Way 696 Upper Glen Street (above the Glens Falls National Bank) Glens Falls\, NY 12801 Please park in the lot off of Lafayette Street and not in the bank's parking lot
UID:e.1842.3692
SEQUENCE:3
DTSTAMP:20260422T005745Z
URL:https://www.adirondackchamber.org/events/details/nonprofit-brown-bag-lunch-chat-3692
END:VEVENT

END:VCALENDAR
