BEGIN:VCALENDAR
VERSION:2.0
PRODID:-//ChamberMaster//Event Calendar 2.0//EN
METHOD:PUBLISH
X-PUBLISHED-TTL:P3D
REFRESH-INTERVAL:P3D
CALSCALE:GREGORIAN
BEGIN:VEVENT
DTSTART:20190503T153000Z
DTEND:20190503T173000Z
X-MICROSOFT-CDO-ALLDAYEVENT:FALSE
SUMMARY:Congresswoman Stefanik & Small Business Administration Business Forum
DESCRIPTION:Join us for an informative session from the U.S. Small Business Administration (SBA) featuring speakers Congresswoman Elise Stefanik\, Steve Bulger and Bernard Paprocki.\n\n\n\nSpeaker info:\n\nCongresswoman Elise Stefanik - U.S. Representative for New York's 21st Congressional District\n\nSteve Bulger - Regional Administrator for SBA's Region II\n\nBernard Paprocki - District Director for the SBA's Syracuse District Office\n\n \nTopics of discussion include:\n\n\n	An update on what is happening with the Federal government and business in DC and in our region\n	What impact does the SBA have on our business community?\n	What impact can the SBA have on your business?\n\n\n\nThe U.S. SBA helps Americans start\, build\, and grow businesses. The SBA's goal is to aid\, counsel\, assist and protect the interests of small business concerns\, to preserve free competitive enterprise and to maintain and strengthen the overall economy of our nation.\n\n\n\n*ARCC's Cancelation Policy: A registration is a reservation and we look forward to you joining us. To best support our venue partners and event attendees\, a refund for any reservation will require 72 hours notice for cancellation. Reserved no shows will be charged the full price. We encourage you to send a co-worker\, peer\, vendor or customer if you're not able to make it and giving notice wasn't optional.\n\n\n\nARCC Not Yet Member Attendance Policy\n\nThe Adirondack Regional Chamber of Commerce schedules and hosts some of the MUST ATTEND events in the tri-county region and are Member Only benefits to maximize networking with like-minded\, civic and community leaders that commit to best business practices. To find out why our members grow\, succeed and thrive\, we invite NOT YET Members to attend 1 (one) regularly scheduled event per calendar year at a Not Yet Member admission fee (if applicable). A non-qualifying member is defined as any business and the employees or representatives with unpaid dues for membership of the ARCC.
X-ALT-DESC;FMTTYPE=text/html:<span style="color:#000000\;">Join us for an informative session from the U.S. Small Business Administration (SBA) featuring speakers Congresswoman Elise Stefanik\, Steve Bulger and Bernard Paprocki.<br />\n<br />\n<strong>Speaker info</strong>:<br />\nCongresswoman Elise Stefanik - U.S. Representative for New York&#39\;s 21st Congressional District<br />\nSteve Bulger - Regional Administrator for SBA&#39\;s Region II<br />\nBernard Paprocki - District Director for the SBA&#39\;s Syracuse District Office</span><br />\n&nbsp\;\n<div><strong>Topics of discussion include</strong>:</div>\n\n<ul>\n	<li>An update on what is happening with the Federal government and business in DC and in our region</li>\n	<li>What impact does the SBA have on our business community?</li>\n	<li>What impact can the SBA have on your business?</li>\n</ul>\n<br />\n<span style="color:#000000\;">The U.S. SBA helps Americans start\, build\, and grow businesses. The SBA&#39\;s goal is to aid\, counsel\, assist and protect the interests of small business concerns\, to preserve free competitive enterprise and to maintain and strengthen the overall economy of our nation.</span><br />\n<br />\n<span style="font-size:11px\;"><em><strong>*ARCC&#39\;s&nbsp\;Cancelation Policy</strong>: A registration is a reservation and we look forward to you joining us. To best support our venue partners and event attendees\, a refund for any reservation will require 72 hours notice for&nbsp\;cancellation. Reserved no shows will be charged the full price. We encourage you to send a co-worker\, peer\, vendor or customer if you&#39\;re not able to make it and giving notice wasn&#39\;t optional.</em></span><br />\n<br />\n<em><span style="font-size:11px\;"><strong>ARCC&nbsp\;Not Yet Member Attendance Policy</strong><br />\nThe Adirondack Regional Chamber of Commerce schedules and hosts some of the MUST ATTEND events in the tri-county region and are Member Only benefits to maximize networking with like-minded\, civic and community leaders that commit to best business practices. To find out why our members grow\, succeed and thrive\, we invite NOT YET Members to attend 1 (one) regularly scheduled event per calendar year at a Not Yet Member admission fee (if applicable). A non-qualifying member is defined as any business and the employees or representatives with unpaid dues for membership of the&nbsp\;ARCC.</span></em>
LOCATION:The Park Theater 14 Park Street Glens Falls\, NY 12801
UID:e.1842.3666
SEQUENCE:3
DTSTAMP:20260422T003805Z
URL:https://www.adirondackchamber.org/events/details/congresswoman-stefanik-small-business-administration-business-forum-3666
END:VEVENT

END:VCALENDAR
