BEGIN:VCALENDAR
VERSION:2.0
PRODID:-//ChamberMaster//Event Calendar 2.0//EN
METHOD:PUBLISH
X-PUBLISHED-TTL:P3D
REFRESH-INTERVAL:P3D
CALSCALE:GREGORIAN
BEGIN:VEVENT
DTSTART:20190529T153000Z
DTEND:20190529T173000Z
X-MICROSOFT-CDO-ALLDAYEVENT:FALSE
SUMMARY:ARCC Lunch & Learn: Workplace Violence Prevention
DESCRIPTION:We are happy to have Catamount Consulting join us for an informative Lunch & Learn at the historic Fort William Henry. Catamount Consulting proudly assists companies large and small with their employee's health\, safety training and consulting needs.\n\n\n\nThe topic will focus on Workplace Violence - "Who Is At Risk and How To Reduce It."  Catamount Consulting will be touching on workplace violence in order to recognize threat behaviors and signs of potential violent tendencies.\n\n\n\nAttendees will learn:\n\n	Some risk factors to help management assess their workplace\n	The employee warning signs that lead to workplace violence/shootings\n	The 5 stages of an active shooter prior to the event.\n\n\n\n\nAbout Catamount Consulting\n\nFounded in 2005\, Catamount Consulting is a national safety training and consulting firm with a team of dedicated consulting professionals whose practice is the implementation and execution of workplace safety and regulatory compliance programs. Our goal is to provide small to medium businesses with high quality\, cost effective and practical training\, programs and solutions in the field of employee and workplace safety.\n\n\n\n*ARCC's Cancelation Policy: A registration is a reservation and we look forward to you joining us. To best support our venue partners and event attendees\, a refund for any reservation will require 72 hours notice for cancellation. Reserved no shows will be charged the full price. We encourage you to send a co-worker\, peer\, vendor or customer if you're not able to make it and giving notice wasn't optional.\n\n\n\nARCC Not Yet Member Attendance Policy\n\nThe Adirondack Regional Chamber of Commerce schedules and hosts some of the MUST ATTEND events in the tri-county region and are Member Only benefits to maximize networking with like-minded\, civic and community leaders that commit to best business practices. To find out why our members grow\, succeed and thrive\, we invite NOT YET Members to attend 1 (one) regularly scheduled event per calendar year at a Not Yet Member admission fee (if applicable). A non-qualifying member is defined as any business and the employees or representatives with unpaid dues for membership of the ARCC.
X-ALT-DESC;FMTTYPE=text/html:<span style="color:#000000\;">We are happy to have </span><strong><a href="https://catamountconsultingllc.com/" target="_blank"><span style="color:#000000\;">Catamount Consulting</span></a></strong><span style="color:#000000\;"> join us for an informative Lunch &amp\; Learn at the historic Fort William Henry. Catamount Consulting proudly assists companies large and small with their employee&rsquo\;s health\, safety training and consulting needs.<br />\n<br />\nThe topic will focus on Workplace Violence - &ldquo\;Who Is At Risk and How To Reduce It.&rdquo\;&nbsp\; Catamount Consulting will be touching on workplace violence in order to recognize threat behaviors and signs of potential violent tendencies.<br />\n<br />\n<u><strong>Attendees will learn</strong></u>:</span>\n<ul>\n	<li><span style="color:#000000\;">Some risk factors to help management assess their workplace</span></li>\n	<li><span style="color:#000000\;">The employee warning signs that lead to workplace violence/shootings</span></li>\n	<li><span style="color:#000000\;">The 5 stages of an active shooter prior to the event.</span></li>\n</ul>\n\n<p><br />\n<span style="color:#000000\;"><strong>About Catamount Consulting</strong><br />\nFounded in 2005\, Catamount Consulting is a national safety training and consulting firm with a team of dedicated consulting professionals whose practice is the implementation and execution of workplace safety and regulatory compliance programs. Our goal is to provide small to medium businesses with high quality\, cost effective and practical training\, programs and solutions in the field of employee and workplace safety.</span><br />\n<br />\n<em><strong><span style="margin: 0px\; padding: 0px\; outline: 0px\; border-radius: 0px\; border: currentColor\; border-image: none\; left: auto\; top: auto\; width: auto\; height: auto\; right: auto\; bottom: auto\; color: rgb(68\, 68\, 68)\; line-height: 18.9px\; overflow: visible\; clear: none\; font-family: arial\; font-size: 11px\; vertical-align: baseline\; visibility: inherit\; border-collapse: separate\; position: static\; z-index: auto\; table-layout: auto\; direction: inherit\; -ms-word-break: inherit\; -ms-word-wrap: inherit\; -ms-text-overflow: clip\; max-height: none\; max-width: none\; content: normal\; box-sizing: content-box\; empty-cells: show\; font-stretch: inherit\; opacity: 1\; box-shadow: none\; background-image: none\; resize: none\; outline-offset: 0px\; font-variant-numeric: inherit\;">*</span></strong><span style="margin: 0px\; padding: 0px\; outline: 0px\; border-radius: 0px\; border: currentColor\; border-image: none\; left: auto\; top: auto\; width: auto\; height: auto\; right: auto\; bottom: auto\; color: rgb(68\, 68\, 68)\; line-height: 15.36px\; overflow: visible\; clear: none\; font-family: arial\; font-size: 11px\; vertical-align: baseline\; visibility: inherit\; border-collapse: separate\; position: static\; z-index: auto\; table-layout: auto\; direction: inherit\; -ms-word-break: inherit\; -ms-word-wrap: inherit\; -ms-text-overflow: clip\; max-height: none\; max-width: none\; content: normal\; box-sizing: content-box\; empty-cells: show\; font-stretch: inherit\; opacity: 1\; box-shadow: none\; background-image: none\; resize: none\; outline-offset: 0px\; font-variant-numeric: inherit\;"><strong>ARCC&#39\;s&nbsp\;Cancelation Policy</strong>: A registration is a reservation and we look forward to you joining us. To best support our venue partners and event attendees\, a refund for any reservation will require 72 hours notice for&nbsp\;cancellation. Reserved no shows will be charged the full price. We encourage you to send a co-worker\, peer\, vendor or customer if you&#39\;re not able to make it and giving notice wasn&#39\;t optional.</span><br style="margin: 0px\; padding: 0px\; border-radius: 0px\; border: currentColor\; border-image: none\; left: auto\; top: auto\; width: auto\; height: auto\; right: auto\; bottom: auto\; color: rgb(68\, 68\, 68)\; line-height: inherit\; overflow: visible\; clear: none\; font-family: arial\; font-size: 12.72px\; vertical-align: baseline\; float: none\; display: inline\; visibility: inherit\; border-collapse: separate\; position: static\; z-index: auto\; table-layout: auto\; direction: inherit\; -ms-word-break: inherit\; -ms-word-wrap: inherit\; -ms-text-overflow: clip\; max-height: none\; max-width: none\; content: normal\; box-sizing: content-box\; empty-cells: show\; font-stretch: inherit\; opacity: 1\; background-image: none\; resize: none\; outline-offset: 0px\; font-variant-numeric: inherit\;" />\n<br style="margin: 0px\; padding: 0px\; border-radius: 0px\; border: currentColor\; border-image: none\; left: auto\; top: auto\; width: auto\; height: auto\; right: auto\; bottom: auto\; color: rgb(68\, 68\, 68)\; line-height: inherit\; overflow: visible\; clear: none\; font-family: arial\; font-size: 12.72px\; vertical-align: baseline\; float: none\; display: inline\; visibility: inherit\; border-collapse: separate\; position: static\; z-index: auto\; table-layout: auto\; direction: inherit\; -ms-word-break: inherit\; -ms-word-wrap: inherit\; -ms-text-overflow: clip\; max-height: none\; max-width: none\; content: normal\; box-sizing: content-box\; empty-cells: show\; font-stretch: inherit\; opacity: 1\; background-image: none\; resize: none\; outline-offset: 0px\; font-variant-numeric: inherit\;" />\n<span style="margin: 0px\; padding: 0px\; outline: 0px\; border-radius: 0px\; border: currentColor\; border-image: none\; left: auto\; top: auto\; width: auto\; height: auto\; right: auto\; bottom: auto\; color: rgb(68\, 68\, 68)\; line-height: inherit\; overflow: visible\; clear: none\; font-family: arial\; font-size: 11px\; vertical-align: baseline\; visibility: inherit\; border-collapse: separate\; position: static\; z-index: auto\; table-layout: auto\; direction: inherit\; -ms-word-break: inherit\; -ms-word-wrap: inherit\; -ms-text-overflow: clip\; max-height: none\; max-width: none\; content: normal\; box-sizing: content-box\; empty-cells: show\; font-stretch: inherit\; opacity: 1\; box-shadow: none\; background-image: none\; resize: none\; outline-offset: 0px\; font-variant-numeric: inherit\;"><strong>ARCC&nbsp\;Not Yet Member Attendance Policy</strong><br style="background: none\; font: inherit\; margin: 0px\; padding: 0px\; border-radius: 0px\; border: currentColor\; border-image: none\; left: auto\; top: auto\; width: auto\; height: auto\; text-align: inherit\; right: auto\; bottom: auto\; color: inherit\; text-transform: inherit\; text-indent: inherit\; letter-spacing: inherit\; overflow: visible\; clear: none\; word-spacing: inherit\; vertical-align: baseline\; float: none\; display: inline\; white-space: inherit\; visibility: inherit\; border-collapse: separate\; position: static\; z-index: auto\; table-layout: auto\; direction: inherit\; -ms-word-break: inherit\; -ms-word-wrap: inherit\; -ms-text-overflow: clip\; max-height: none\; max-width: none\; content: normal\; box-sizing: content-box\; empty-cells: show\; font-size-adjust: inherit\; font-stretch: inherit\; opacity: 1\; resize: none\; outline-offset: 0px\;" />\nThe Adirondack Regional Chamber of Commerce schedules and hosts some of the MUST ATTEND events in the tri-county region and are Member Only benefits to maximize networking with like-minded\, civic and community leaders that commit to best business practices. To find out why our members grow\, succeed and thrive\, we invite NOT YET Members to attend 1 (one) regularly scheduled event per calendar year at a Not Yet Member admission fee (if applicable). A non-qualifying member is defined as any business and the employees or representatives with unpaid dues for membership of the&nbsp\;ARCC.</span></em></p>\n
LOCATION:Fort William Henry Hotel White Lion Room 48 Canada Street Lake George\, NY 12845
UID:e.1842.3681
SEQUENCE:3
DTSTAMP:20260422T003423Z
URL:https://www.adirondackchamber.org/events/details/arcc-lunch-learn-workplace-violence-prevention-3681
END:VEVENT

END:VCALENDAR
