BEGIN:VCALENDAR
VERSION:2.0
PRODID:-//ChamberMaster//Event Calendar 2.0//EN
METHOD:PUBLISH
X-PUBLISHED-TTL:P3D
REFRESH-INTERVAL:P3D
CALSCALE:GREGORIAN
BEGIN:VEVENT
DTSTART:20221201T220000Z
DTEND:20221202T000000Z
X-MICROSOFT-CDO-ALLDAYEVENT:FALSE
SUMMARY:ARCC Holiday Mixer 2022
DESCRIPTION:The annual ARCC Holiday Mixer is a member favorite!\n\n\n\nJoin our region's businesses as we ring in the holiday season with festive drinks\, food samples\, and more!\n\n\n\nIn addition\, festive (and fun!) photo opportunities will be provided by On the Spot Photos.\n\n\n\nLive music\, fire pits and hot soup & beverage stations will also be available for this combination indoor/outdoor event! Please dress accordingly! \n\n\n\nReservations and pre-payment are required for this ARCC Mixer.\n\n\n\n\n\n\n\n*ARCC's Cancelation Policy: A registration is a reservation and we look forward to you joining us. To best support our venue partners and event attendees\, a refund for any reservation will require 72 hours notice for cancellation. Reserved no shows will be charged the full price. We encourage you to send a co-worker\, peer\, vendor or customer if you're not able to make it and giving notice wasn't optional.\n\n \n\nARCC Not Yet Member Attendance Policy\n\nThe Adirondack Regional Chambers of Commerce schedules and hosts some of the MUST ATTEND events in the tri-county region and our Member Only benefits to maximize networking with like-minded\, civic and community leaders that commit to best business practices. To find out why our members grow\, succeed and thrive\, we invite NOT YET Members to attend 1 (one) regularly scheduled event per calendar year at a Not Yet Member admission fee (if applicable). A non-qualifying member is defined as any business and the employees or representatives with unpaid dues for membership of the ARCC.
X-ALT-DESC;FMTTYPE=text/html:The annual <strong><span style="color:#006400\;">ARCC Holiday Mixer </span></strong>is a member favorite!<br />\n<br />\nJoin our region&#39\;s businesses as we ring in the holiday season with festive drinks\, food samples\, and more!<br />\n<br />\nIn addition\, festive (and fun!) photo opportunities will be provided by On the Spot Photos.<br />\n<br />\nLive music\, fire pits and hot soup &amp\; beverage stations will also be available for this combination indoor/outdoor event! Please dress accordingly!&nbsp\;<br />\n<br />\nReservations and pre-payment are required for this ARCC Mixer.<br />\n<br />\n<br />\n<br />\n<span style="font-size:11px\;"><em>*<strong>ARCC&#39\;s Cancelation Policy:</strong> A registration is a reservation and we look forward to you joining us. To best support our venue partners and event attendees\, <strong>a refund for any reservation will require 72 hours notice for cancellation</strong>. Reserved no shows will be charged the full price. We encourage you to send a co-worker\, peer\, vendor or customer if you&#39\;re not able to make it and giving notice wasn&#39\;t optional.<br />\n&nbsp\;<br />\nARCC Not Yet Member Attendance Policy<br />\nThe Adirondack Regional Chambers of Commerce schedules and hosts some of the MUST ATTEND events in the tri-county region and our Member Only benefits to maximize networking with like-minded\, civic and community leaders that commit to best business practices. To find out why our members grow\, succeed and thrive\, we invite NOT YET Members to attend 1 (one) regularly scheduled event per calendar year at a Not Yet Member admission fee (if applicable). A non-qualifying member is defined as any business and the employees or representatives with unpaid dues for membership of the ARCC.</em></span><br />\n&nbsp\;
LOCATION:Fort William Henry Conference Center Lake George Ballroom 48 Canada Street\, Lake George\, NY 12845 https://www.fortwilliamhenry.com/
UID:e.1842.4195
SEQUENCE:3
DTSTAMP:20260420T231845Z
URL:https://www.adirondackchamber.org/events/details/arcc-holiday-mixer-2022-4195
END:VEVENT

END:VCALENDAR
