BEGIN:VCALENDAR
VERSION:2.0
PRODID:-//ChamberMaster//Event Calendar 2.0//EN
METHOD:PUBLISH
X-PUBLISHED-TTL:P3D
REFRESH-INTERVAL:P3D
CALSCALE:GREGORIAN
BEGIN:VEVENT
DTSTART:20190511T130000Z
DTEND:20190511T160000Z
X-MICROSOFT-CDO-ALLDAYEVENT:FALSE
SUMMARY:ARCC Community Shred Day
DESCRIPTION:The ARCC\, in partnership with Confidata and Aviation Mall\, is hosting a Community Shred Day.\n\n\n\nThis event is free with the donation of a nonperishable food item with every box. Participants can bring up to 5 boxes to shred (box size cannot exceed 24" X 12" X 10 1/4 "). Click here for a map of the parking lot.\n\n\n\nThis event will occur rain or shine.
X-ALT-DESC;FMTTYPE=text/html:<strong><span style="color:#000000\;">The ARCC\, in partnership with </span><a href="https://www.confidata.com/" target="_blank"><span style="color:#0000FF\;">Confidata</span></a><span style="color:#000000\;"> and </span><a href="https://www.shopaviationmall.com/" target="_blank"><span style="color:#0000FF\;">Aviation Mall</span></a><span style="color:#000000\;">\, is hosting a Community Shred Day.</span></strong><br />\n<br />\n<span style="color:#000000\;">This event is free with the donation of a nonperishable food item with every box. Participants can bring up to 5 boxes to shred (box size cannot exceed 24&quot\; X 12&quot\; X 10 1/4 &quot\;). <strong><a href="https://chambermaster.blob.core.windows.net/userfiles/UserFiles/chambers/1842/File/mallsiteplan.jpg">Click here</a> for a map of the parking lot.</strong><br />\n<br />\n<em>This event will occur rain or shine.</em></span>
LOCATION:Aviation Mall 578 Aviation Road Queensbury\, NY 12804
UID:e.1842.3667
SEQUENCE:3
DTSTAMP:20260422T003444Z
URL:https://www.adirondackchamber.org/events/details/arcc-community-shred-day-3667
END:VEVENT

END:VCALENDAR
