BEGIN:VCALENDAR
VERSION:2.0
PRODID:-//ChamberMaster//Event Calendar 2.0//EN
METHOD:PUBLISH
X-PUBLISHED-TTL:P3D
REFRESH-INTERVAL:P3D
CALSCALE:GREGORIAN
BEGIN:VEVENT
DTSTART:20190309T230000Z
DTEND:20190310T040000Z
X-MICROSOFT-CDO-ALLDAYEVENT:FALSE
SUMMARY:Annual Event & J. Walter Juckett Award Presentation March 2019
DESCRIPTION:REGISTRATION IS CLOSED AND THIS EVENT IS SOLD OUT.\n\n\n\nWe hope you can join us for our Annual Event and the presentation of the 30th Annual J. Walter Juckett Community Service Award. The event will take place on the evening of Saturday\, March 9th at the beautiful Sagamore Resort. You can look forward to a cocktail hour\, silent auction\, delightful dinner\, brief program\, and a celebration honoring the J. Walter Juckett Award recipient.\n\n\n\nWe are thrilled to announce that Elizabeth Miller\, of Miller Mechanical Services and Doty Machine Works\, is being honored with the 30th Annual J. Walter Juckett Award. \n\n \n\nMake a night of it and stay at the fabulous Sagamore! The Sagamore Resort is generously offering discounted rooms to our guests for the evening. Book online with promo code: ARCC0319. Please select Group/Block for Rate Type when booking online. Click here to be redirected to booking page. OR call 1-866-385-6221 to book over the phone.\n\n\n\nPromo code may only be used for the evening of Saturday\, March 9\, 2019.\n\n\n\nARCC's Cancelation Policy: A registration is a reservation and we look forward to you joining us. To best support our venue partners and event attendees\, a refund for any reservation will require 72 hours notice for cancellation. Reserved no shows will be charged the full price. We encourage you to send a co-worker\, peer\, vendor or customer if you're not able to make it and giving notice wasn't optional.
X-ALT-DESC;FMTTYPE=text/html:<div><span style="font-size:18px\;"><span style="color:#FF0000\;"><strong>REGISTRATION IS CLOSED AND THIS EVENT IS SOLD OUT.</strong></span></span><br />\n<br />\n<span style="color:#000000\;"><strong>We hope you can join us for our Annual Event and the presentation of the 30th Annual J. Walter Juckett Community Service Award.</strong> The event will take place on the evening of Saturday\, March 9th at the beautiful Sagamore Resort. You can look forward to a cocktail hour\, silent auction\, delightful dinner\, brief program\, and a celebration honoring the J. Walter Juckett Award recipient.<br />\n<br />\n<strong><em>We are thrilled to announce that Elizabeth Miller\, of Miller Mechanical Services and Doty Machine Works\, is being honored with the 30th Annual J. Walter Juckett Award. </em></strong></span></div>\n\n<div>&nbsp\;</div>\n\n<div><span style="color:#000000\;"><strong>Make a night of it and stay at the fabulous Sagamore! </strong>The Sagamore Resort is generously offering discounted rooms to our guests for the evening. <strong>Book online with promo code: ARCC0319. Please select Group/Block for Rate Type when booking online.</strong> <strong><a href="https://reservations.thesagamore.com/sagamore/availability.asp?startDate=03/09/2019&amp\;endDate=03/10/2019&amp\;adults=2&amp\;children=0&amp\;requestType=invBlockCode&amp\;code=ARCC0319&amp\;_ga=2.56531884.667891966.1549918632-1293426120.1546533135" target="_blank">Click here</a> to be redirected to booking page. </strong></span>OR call 1-866-385-6221 to book over the phone.<br />\n<br />\n<span style="color:#000000\;"><em>Promo code may only be used for the evening of Saturday\, March 9\, 2019.</em></span><br />\n<br />\n<span style="font-size:11px\;"><em>ARCC&#39\;s&nbsp\;Cancelation Policy: A registration is a reservation and we look forward to you joining us. To best support our venue partners and event attendees\, a refund for any reservation will require 72 hours notice for&nbsp\;cancellation. Reserved no shows will be charged the full price. We encourage you to send a co-worker\, peer\, vendor or customer if you&#39\;re not able to make it and giving notice wasn&#39\;t optional.</em></span></div>\n
LOCATION:The Sagamore Resort 110 Sagamore Road Bolton Landing\, NY 12814
UID:e.1842.3562
SEQUENCE:3
DTSTAMP:20260420T183803Z
URL:https://www.adirondackchamber.org/events/details/annual-event-j-walter-juckett-award-presentation-march-2019-3562
END:VEVENT

END:VCALENDAR
