BEGIN:VCALENDAR
VERSION:2.0
PRODID:-//ChamberMaster//Event Calendar 2.0//EN
METHOD:PUBLISH
X-PUBLISHED-TTL:P3D
REFRESH-INTERVAL:P3D
CALSCALE:GREGORIAN
BEGIN:VEVENT
DTSTART:20190326T210000Z
DTEND:20190326T233000Z
X-MICROSOFT-CDO-ALLDAYEVENT:FALSE
SUMMARY:3.2019 Trivia Night - Presented by the ARCC NextGens
DESCRIPTION:Trivia Night has been rescheduled! The ARCC NextGen Committee invite you to a fun night of trivia at The Grateful Den.\n\n\n\nTrivia will be played in 4-person teams. Don't have a team? We can place you on one! Participants will register individually\, regardless of team status.\n\n\n\nFriendly competition is encouraged! Enjoy food and drink specials all night long. Plus\, there will be prizes for 1st place\, 2nd place and 3rd place teams.
X-ALT-DESC;FMTTYPE=text/html:<span style="color:#000000\;"><strong>Trivia Night has been rescheduled!</strong> The ARCC NextGen Committee invite you to a fun night of trivia at The Grateful Den.<br />\n<br />\nTrivia will be played in 4-person teams. Don&#39\;t have a team? We can place you on one! <em>Participants will register individually\, regardless of team status.</em><br />\n<br />\nFriendly competition is encouraged! </span>Enjoy food and drink specials all night long. Plus\, there will be prizes for 1st place\, 2nd place and 3rd place teams.
LOCATION:The Grateful Den 56 Hudson Avenue Glens Falls\, NY 12801
UID:e.1842.3657
SEQUENCE:3
DTSTAMP:20260424T191424Z
URL:https://www.adirondackchamber.org/events/details/3-2019-trivia-night-presented-by-the-arcc-nextgens-3657
END:VEVENT

END:VCALENDAR
