BEGIN:VCALENDAR
VERSION:2.0
PRODID:-//ChamberMaster//Event Calendar 2.0//EN
METHOD:PUBLISH
X-PUBLISHED-TTL:P3D
REFRESH-INTERVAL:P3D
CALSCALE:GREGORIAN
BEGIN:VEVENT
DTSTART:20181115T213000Z
DTEND:20181115T230000Z
X-MICROSOFT-CDO-ALLDAYEVENT:FALSE
SUMMARY:11.2018 Joint Mixer with South Glens Falls Chamber of Commerce
DESCRIPTION:The ARCC and South Glens Falls-Town of Moreau Chamber of Commerce invite you to a Joint Chamber Mixer. This is a great opportunity to get to know members of both Chambers while having some fun!\nFood will be provided and a cash bar available. We hope you can join us!
X-ALT-DESC;FMTTYPE=text/html:The ARCC and South Glens Falls-Town of Moreau Chamber of Commerce invite you to a Joint Chamber Mixer. This is a great opportunity to get to know members of both Chambers while having some fun!\n<div>Food will be provided and a cash bar available. We hope you can join us!</div>\n
LOCATION:King Pin's Alley Family Fun Center 166 Saratoga Road South Glens Falls\, NY 12803
UID:e.1842.3492
SEQUENCE:3
DTSTAMP:20260425T030001Z
URL:https://www.adirondackchamber.org/events/details/11-2018-joint-mixer-with-south-glens-falls-chamber-of-commerce-3492
END:VEVENT

END:VCALENDAR
