BEGIN:VCALENDAR
VERSION:2.0
PRODID:-//ChamberMaster//Event Calendar 2.0//EN
METHOD:PUBLISH
X-PUBLISHED-TTL:P3D
REFRESH-INTERVAL:P3D
CALSCALE:GREGORIAN
BEGIN:VEVENT
DTSTART:20190117T213000Z
DTEND:20190117T230000Z
X-MICROSOFT-CDO-ALLDAYEVENT:FALSE
SUMMARY:1.2019 ARCC Mixer at the Towers
DESCRIPTION:Join us for our first mixer of 2019 on the 9th floor of the tallest building in Glens Falls! After the holidays comes new opportunities and the perspective of starting fresh. Come mix & mingle with us!\n\n\n\nARCC's Cancelation Policy: A registration is a reservation and we look forward to you joining us. To best support our venue partners and event attendees\, a refund for any reservation will require 72 hours notice for cancellation. Reserved no shows will be charged the full price. We encourage you to send a co-worker\, peer\, vendor or customer if you're not able to make it and giving notice wasn't optional.
X-ALT-DESC;FMTTYPE=text/html:Join us for our first mixer of 2019 on the 9th floor of the tallest building in Glens Falls! After the holidays comes new opportunities and the perspective of starting fresh. Come mix &amp\; mingle with us!<br />\n<br />\n<em><span style="font-size:11px\;">ARCC&#39\;s&nbsp\;Cancelation Policy: A registration is a reservation and we look forward to you joining us. To best support our venue partners and event attendees\, a refund for any reservation will require 72 hours notice for&nbsp\;cancellation. Reserved no shows will be charged the full price. We encourage you to send a co-worker\, peer\, vendor or customer if you&#39\;re not able to make it and giving notice wasn&#39\;t optional.</span></em>
LOCATION:The Tower Event Center 333 Glen Street\, Floor 9 Glens Falls\, NY 12801
UID:e.1842.3524
SEQUENCE:3
DTSTAMP:20260424T230024Z
URL:https://www.adirondackchamber.org/events/details/1-2019-arcc-mixer-at-the-towers-3524
END:VEVENT

END:VCALENDAR
